BEGIN:VCALENDAR
METHOD:PUBLISH
VERSION:2.0
CALSCALE:GREGORIAN
PRODID:-//NONSGML WPForms//NONSGML Sugar Calendar Feeds v3.11.0//EN
X-WR-CALNAME:Conversation-Over-Easy
X-WR-CALDESC:TogetherWorks Southern Utah
X-WR-TIMEZONE:UTC
BEGIN:VTIMEZONE
TZID:UTC
BEGIN:STANDARD
TZOFFSETFROM:+0000
TZOFFSETTO:+0000
DTSTART:20260224T203000
TZNAME:UTC
END:STANDARD
END:VTIMEZONE
BEGIN:VTIMEZONE
TZID:UTC
BEGIN:STANDARD
TZOFFSETFROM:+0000
TZOFFSETTO:+0000
DTSTART:20260224T203000
TZNAME:UTC
END:STANDARD
END:VTIMEZONE
BEGIN:VEVENT
SUMMARY:Conversation Over Easy
DESCRIPTION:Conversation Over EasyEvery Wednesday at George's CornerStar
 ts about 8:30 am\n\n\n\n\n\n\n\n\n\n\n\n\n\n\n\n\nSugar Calendar Event L
 ist Block
URL;VALUE=URI:https://togetherworks.net/sc_recurring_event/conversation-
 over-easy-2/
UID:urn:uuid:3feb77af-7b90-4f13-9993-07514a928d3e
STATUS:CONFIRMED
ORGANIZER:
DTSTAMP:20260423T111219Z
DTSTART;TZID=UTC:20260826T083000
DTEND;TZID=UTC:20260826T100000
RRULE:FREQ=WEEKLY;INTERVAL=1
LOCATION:2 W ST.GEORGE BLVD
END:VEVENT
END:VCALENDAR